BEGIN:VCALENDAR
VERSION:2.0
PRODID:SchoolNow
CALSCALE:GREGORIAN
BEGIN:VEVENT
UID:258f0c82-a3a9-11f0-8844-0e364e4f8e79
DTSTAMP:20260114T180403Z
SUMMARY:Alta Lakes CDD - Board of Supervisors' Meeting -  Jan. 2026 - Cance
 lled
LOCATION:Alta Lakes Amenity Center\, Located at 3108 Alta Lakes Blvd.\, Jac
 ksonville\, FL 32226
URL;VALUE=URI:https://www.altalakescdd.org/calendar/8702951/alta-lakes-cdd-
 board-of-supervisors-meeting-jan-2026
DTSTART:20260121T230000Z
DTEND:20260122T000000Z
END:VEVENT
END:VCALENDAR
