BEGIN:VCALENDAR
VERSION:2.0
PRODID:SchoolNow
CALSCALE:GREGORIAN
BEGIN:VEVENT
UID:5be4ce20-a3a9-11f0-af95-0a58a9feac02
DTSTAMP:20251007T181343Z
SUMMARY:Alta Lakes CDD - Board of Supervisors' Meeting -  Jul. 2026
LOCATION:Alta Lakes Amenity Center\, Located at 3108 Alta Lakes Blvd.\, Jac
 ksonville\, FL 32226
URL;VALUE=URI:https://www.altalakescdd.org/calendar/8702954/alta-lakes-cdd-
 board-of-supervisors-meeting-jul-2026
DTSTART:20260622T220000Z
DTEND:20260622T230000Z
END:VEVENT
END:VCALENDAR
