BEGIN:VCALENDAR
VERSION:2.0
PRODID:SchoolNow
CALSCALE:GREGORIAN
BEGIN:VEVENT
UID:67db3f2a-a3a9-11f0-b752-0a58a9feac02
DTSTAMP:20251007T181403Z
SUMMARY:Alta Lakes CDD - Board of Supervisors' Meeting -  Sept. 2026
LOCATION:Alta Lakes Amenity Center\, Located at 3108 Alta Lakes Blvd.\, Jac
 ksonville\, FL 32226
URL;VALUE=URI:https://www.altalakescdd.org/calendar/8702955/alta-lakes-cdd-
 board-of-supervisors-meeting-sept-2026
DTSTART:20260916T220000Z
DTEND:20260916T230000Z
END:VEVENT
END:VCALENDAR
